Workbook

Sheet Risk Chart
B1: Severity
A2: Probability | C2: A | D2: B | E2: C | F2: D | G2: E
C3: Negligible | D3: Low | E3: Moderate | F3: Severe | G3: Catastrophic
A4: 5 | B4: Nearly Certain | C4: =Risks!AC22 -> 0 | D4: =Risks!AC17 -> 0 | E4: =Risks!AC12 -> 0 | F4: =Risks!AC7 -> 0 | G4: =Risks!AC2 -> 0
A5: 4 | B5: Likely | C5: =Risks!AC23 -> 0 | D5: =Risks!AC18 -> 1 | E5: =Risks!AC13 -> 0 | F5: =Risks!AC8 -> 1 | G5: =Risks!AC3 -> 0
A6: 3 | B6: Possible | C6: =Risks!AC24 -> 0 | D6: =Risks!AC19 -> 0 | E6: =Risks!AC14 -> 0 | F6: =Risks!AC9 -> 0 | G6: =Risks!AC4 -> 0
A7: 2 | B7: Unlikely | C7: =Risks!AC25 -> 0 | D7: =Risks!AC20 -> 0 | E7: =Risks!AC15 -> 2 | F7: =Risks!AC10 -> 1 | G7: =Risks!AC5 -> 0
A8: 1 | B8: Rare | C8: =Risks!AC26 -> 0 | D8: =Risks!AC21 -> 1 | E8: =Risks!AC16 -> 1 | F8: =Risks!AC11 -> 4 | G8: =Risks!AC6 -> 1
A11: Immediate Action
A12: Urgent Action
A13: Action
A14: Monitor
A15: No Action

Sheet Risks
A1: Risk | B1: Probability | C1: Severity | D1: Date Identified | E1: Mitigation | F1: Progress | G1: Notes | H1: Action to Take | T1: Numerical Severity
A2: DJI SDK is an unsuitable development platform | B2: 1 | C2: C | D2: 42279 | G2: Cost risk | H2: =IF(T2*B2<4, "No Action", IF(T2*B2<7, "Monitor", IF(T2*B2<15, "Action", IF(T2*B2<16, "Urgent Action", "Immediate Action")))) -> No Action | T2: =CODE(C2)-64 -> 3 | Z2: 1 | AA2: 5 | AB2: E | AC2: =COUNTIFS(B:B, 5,C:C, "E") -> 0
A3: Matrice cannot support our needs | B3: 1 | C3: D | D3: 42279 | E3: Research prior to purchase | G3: Cost risk | H3: =IF(T3*B3<4, "No Action", IF(T3*B3<7, "Monitor", IF(T3*B3<15, "Action", IF(T3*B3<16, "Urgent Action", "Immediate Action")))) -> Monitor | T3: =CODE(C3)-64 -> 4 | Z3: 2 | AA3: 4 | AB3: E | AC3: =COUNTIFS(B:B, 4,C:C, "E") -> 0
A4: Guidance sensors unsuitable to our requirements | B4: 1 | C4: D | D4: 42279 | G4: Schedule/cost risk | H4: =IF(T4*B4<4, "No Action", IF(T4*B4<7, "Monitor", IF(T4*B4<15, "Action", IF(T4*B4<16, "Urgent Action", "Immediate Action")))) -> Monitor | T4: =CODE(C4)-64 -> 4 | Z4: 3 | AA4: 3 | AB4: E | AC4: =COUNTIFS(B:B, 3,C:C, "E") -> 0
A5: Simulations diverge significantly from reality | B5: 2 | C5: C | D5: 42279 | E5: Careful simulation creation | G5: Schedule risk | H5: =IF(T5*B5<4, "No Action", IF(T5*B5<7, "Monitor", IF(T5*B5<15, "Action", IF(T5*B5<16, "Urgent Action", "Immediate Action")))) -> Monitor | T5: =CODE(C5)-64 -> 3 | Z5: 4 | AA5: 2 | AB5: E | AC5: =COUNTIFS(B:B, 2,C:C, "E") -> 0
A6: Docking mechanism fails while Quadcopter is docking or docked | B6: 4 | C6: D | D6: 42279 | E6: Place net under platform | G6: Physical risk | H6: =IF(T6*B6<4, "No Action", IF(T6*B6<7, "Monitor", IF(T6*B6<15, "Action", IF(T6*B6<16, "Urgent Action", "Immediate Action")))) -> Immediate Action | T6: =CODE(C6)-64 -> 4 | Z6: 5 | AA6: 1 | AB6: E | AC6: =COUNTIFS(B:B, 1,C:C, "E") -> 1
A7: Quadcopter collision avoidance fails in flight | B7: 2 | C7: D | D7: 42279 | E7: Keep Guidance On | G7: Physical risk | H7: =IF(T7*B7<4, "No Action", IF(T7*B7<7, "Monitor", IF(T7*B7<15, "Action", IF(T7*B7<16, "Urgent Action", "Immediate Action")))) -> Action | T7: =CODE(C7)-64 -> 4 | Z7: 6 | AA7: 5 | AB7: D | AC7: =COUNTIFS(B:B, 5,C:C, "D") -> 0
A8: Quadcopter attempts to shut down engines after a false positive dock | B8: 1 | C8: D | D8: 42279 | E8: Place net under platform | G8: Physical risk | H8: =IF(T8*B8<4, "No Action", IF(T8*B8<7, "Monitor", IF(T8*B8<15, "Action", IF(T8*B8<16, "Urgent Action", "Immediate Action")))) -> Monitor | T8: =CODE(C8)-64 -> 4 | Z8: 7 | AA8: 4 | AB8: D | AC8: =COUNTIFS(B:B, 4,C:C, "D") -> 1
A9: Delays in shipping | B9: 4 | C9: B | D9: 42279 | E9: Order in advance | G9: Schedule risk | H9: =IF(T9*B9<4, "No Action", IF(T9*B9<7, "Monitor", IF(T9*B9<15, "Action", IF(T9*B9<16, "Urgent Action", "Immediate Action")))) -> Action | T9: =CODE(C9)-64 -> 2 | Z9: 8 | AA9: 3 | AB9: D | AC9: =COUNTIFS(B:B, 3,C:C, "D") -> 0
A10: NSH lab not big enough for testing | B10: 1 | C10: D | D10: 42279 | E10: Find that out early and reserve Rangos | G10: Schedule Risk | H10: =IF(T10*B10<4, "No Action", IF(T10*B10<7, "Monitor", IF(T10*B10<15, "Action", IF(T10*B10<16, "Urgent Action", "Immediate Action")))) -> Monitor | T10: =CODE(C10)-64 -> 4 | Z10: 9 | AA10: 2 | AB10: D | AC10: =COUNTIFS(B:B, 2,C:C, "D") -> 1
A11: Electrical failures | B11: 2 | C11: C | D11: 42279 | E11: Wire safety / fuses | G11: Schedule/cost risk | H11: =IF(T11*B11<4, "No Action", IF(T11*B11<7, "Monitor", IF(T11*B11<15, "Action", IF(T11*B11<16, "Urgent Action", "Immediate Action")))) -> Monitor | T11: =CODE(C11)-64 -> 3 | Z11: 10 | AA11: 1 | AB11: D | AC11: =COUNTIFS(B:B, 1,C:C, "D") -> 4
A12: Platform fails mechanical requirements | B12: 1 | C12: B | E12: Make another one | G12: Schedule risk | H12: =IF(T12*B12<4, "No Action", IF(T12*B12<7, "Monitor", IF(T12*B12<15, "Action", IF(T12*B12<16, "Urgent Action", "Immediate Action")))) -> No Action | T12: =CODE(C12)-64 -> 2 | Z12: 11 | AA12: 5 | AB12: C | AC12: =COUNTIFS(B:B, 5,C:C, "C") -> 0
A13: A developer becomes unavailable | B13: 1 | C13: E | G13: Schedule Risk | H13: =IF(T13*B13<4, "No Action", IF(T13*B13<7, "Monitor", IF(T13*B13<15, "Action", IF(T13*B13<16, "Urgent Action", "Immediate Action")))) -> Monitor | T13: =CODE(C13)-64 -> 5 | Z13: 12 | AA13: 4 | AB13: C | AC13: =COUNTIFS(B:B, 4,C:C, "C") -> 0
H14: =IF(T14*B14<4, "No Action", IF(T14*B14<7, "Monitor", IF(T14*B14<15, "Action", IF(T14*B14<16, "Urgent Action", "Immediate Action")))) -> #VALUE! | T14: =CODE(C14)-64 -> #VALUE! | Z14: 13 | AA14: 3 | AB14: C | AC14: =COUNTIFS(B:B, 3,C:C, "C") -> 0
H15: =IF(T15*B15<4, "No Action", IF(T15*B15<7, "Monitor", IF(T15*B15<15, "Action", IF(T15*B15<16, "Urgent Action", "Immediate Action")))) -> #VALUE! | T15: =CODE(C15)-64 -> #VALUE! | Z15: 14 | AA15: 2 | AB15: C | AC15: =COUNTIFS(B:B, 2,C:C, "C") -> 2
H16: =IF(T16*B16<4, "No Action", IF(T16*B16<7, "Monitor", IF(T16*B16<15, "Action", IF(T16*B16<16, "Urgent Action", "Immediate Action")))) -> #VALUE! | T16: =CODE(C16)-64 -> #VALUE! | Z16: 15 | AA16: 1 | AB16: C | AC16: =COUNTIFS(B:B, 1,C:C, "C") -> 1
H17: =IF(T17*B17<4, "No Action", IF(T17*B17<7, "Monitor", IF(T17*B17<15, "Action", IF(T17*B17<16, "Urgent Action", "Immediate Action")))) -> #VALUE! | T17: =CODE(C17)-64 -> #VALUE! | Z17: 16 | AA17: 5 | AB17: B | AC17: =COUNTIFS(B:B, 5,C:C, "B") -> 0
H18: =IF(T18*B18<4, "No Action", IF(T18*B18<7, "Monitor", IF(T18*B18<15, "Action", IF(T18*B18<16, "Urgent Action", "Immediate Action")))) -> #VALUE! | T18: =CODE(C18)-64 -> #VALUE! | Z18: 17 | AA18: 4 | AB18: B | AC18: =COUNTIFS(B:B, 4,C:C, "B") -> 1
H19: =IF(T19*B19<4, "No Action", IF(T19*B19<7, "Monitor", IF(T19*B19<15, "Action", IF(T19*B19<16, "Urgent Action", "Immediate Action")))) -> #VALUE! | T19: =CODE(C19)-64 -> #VALUE! | Z19: 18 | AA19: 3 | AB19: B | AC19: =COUNTIFS(B:B, 3,C:C, "B") -> 0
H20: =IF(T20*B20<4, "No Action", IF(T20*B20<7, "Monitor", IF(T20*B20<15, "Action", IF(T20*B20<16, "Urgent Action", "Immediate Action")))) -> #VALUE! | T20: =CODE(C20)-64 -> #VALUE! | Z20: 19 | AA20: 2 | AB20: B | AC20: =COUNTIFS(B:B, 2,C:C, "B") -> 0
H21: =IF(T21*B21<4, "No Action", IF(T21*B21<7, "Monitor", IF(T21*B21<15, "Action", IF(T21*B21<16, "Urgent Action", "Immediate Action")))) -> #VALUE! | T21: =CODE(C21)-64 -> #VALUE! | Z21: 20 | AA21: 1 | AB21: B | AC21: =COUNTIFS(B:B, 1,C:C, "B") -> 1
H22: =IF(T22*B22<4, "No Action", IF(T22*B22<7, "Monitor", IF(T22*B22<15, "Action", IF(T22*B22<16, "Urgent Action", "Immediate Action")))) -> #VALUE! | T22: =CODE(C22)-64 -> #VALUE! | Z22: 21 | AA22: 5 | AB22: A | AC22: =COUNTIFS(B:B, 5,C:C, "A") -> 0
H23: =IF(T23*B23<4, "No Action", IF(T23*B23<7, "Monitor", IF(T23*B23<15, "Action", IF(T23*B23<16, "Urgent Action", "Immediate Action")))) -> #VALUE! | T23: =CODE(C23)-64 -> #VALUE! | Z23: 22 | AA23: 4 | AB23: A | AC23: =COUNTIFS(B:B, 4,C:C, "A") -> 0
H24: =IF(T24*B24<4, "No Action", IF(T24*B24<7, "Monitor", IF(T24*B24<15, "Action", IF(T24*B24<16, "Urgent Action", "Immediate Action")))) -> #VALUE! | T24: =CODE(C24)-64 -> #VALUE! | Z24: 23 | AA24: 3 | AB24: A | AC24: =COUNTIFS(B:B, 3,C:C, "A") -> 0
H25: =IF(T25*B25<4, "No Action", IF(T25*B25<7, "Monitor", IF(T25*B25<15, "Action", IF(T25*B25<16, "Urgent Action", "Immediate Action")))) -> #VALUE! | T25: =CODE(C25)-64 -> #VALUE! | Z25: 24 | AA25: 2 | AB25: A | AC25: =COUNTIFS(B:B, 2,C:C, "A") -> 0
H26: =IF(T26*B26<4, "No Action", IF(T26*B26<7, "Monitor", IF(T26*B26<15, "Action", IF(T26*B26<16, "Urgent Action", "Immediate Action")))) -> #VALUE! | T26: =CODE(C26)-64 -> #VALUE! | Z26: 25 | AA26: 1 | AB26: A | AC26: =COUNTIFS(B:B, 1,C:C, "A") -> 0
H27: =IF(T27*B27<4, "No Action", IF(T27*B27<7, "Monitor", IF(T27*B27<15, "Action", IF(T27*B27<16, "Urgent Action", "Immediate Action")))) -> #VALUE! | T27: =CODE(C27)-64 -> #VALUE!
H28: =IF(T28*B28<4, "No Action", IF(T28*B28<7, "Monitor", IF(T28*B28<15, "Action", IF(T28*B28<16, "Urgent Action", "Immediate Action")))) -> #VALUE! | T28: =CODE(C28)-64 -> #VALUE!
H29: =IF(T29*B29<4, "No Action", IF(T29*B29<7, "Monitor", IF(T29*B29<15, "Action", IF(T29*B29<16, "Urgent Action", "Immediate Action")))) -> #VALUE! | T29: =CODE(C29)-64 -> #VALUE!
H30: =IF(T30*B30<4, "No Action", IF(T30*B30<7, "Monitor", IF(T30*B30<15, "Action", IF(T30*B30<16, "Urgent Action", "Immediate Action")))) -> #VALUE! | T30: =CODE(C30)-64 -> #VALUE!
H31: =IF(T31*B31<4, "No Action", IF(T31*B31<7, "Monitor", IF(T31*B31<15, "Action", IF(T31*B31<16, "Urgent Action", "Immediate Action")))) -> #VALUE! | T31: =CODE(C31)-64 -> #VALUE!
H32: =IF(T32*B32<4, "No Action", IF(T32*B32<7, "Monitor", IF(T32*B32<15, "Action", IF(T32*B32<16, "Urgent Action", "Immediate Action")))) -> #VALUE! | T32: =CODE(C32)-64 -> #VALUE!
H33: =IF(T33*B33<4, "No Action", IF(T33*B33<7, "Monitor", IF(T33*B33<15, "Action", IF(T33*B33<16, "Urgent Action", "Immediate Action")))) -> #VALUE! | T33: =CODE(C33)-64 -> #VALUE!
H34: =IF(T34*B34<4, "No Action", IF(T34*B34<7, "Monitor", IF(T34*B34<15, "Action", IF(T34*B34<16, "Urgent Action", "Immediate Action")))) -> #VALUE! | T34: =CODE(C34)-64 -> #VALUE!
H35: =IF(T35*B35<4, "No Action", IF(T35*B35<7, "Monitor", IF(T35*B35<15, "Action", IF(T35*B35<16, "Urgent Action", "Immediate Action")))) -> #VALUE! | T35: =CODE(C35)-64 -> #VALUE!
H36: =IF(T36*B36<4, "No Action", IF(T36*B36<7, "Monitor", IF(T36*B36<15, "Action", IF(T36*B36<16, "Urgent Action", "Immediate Action")))) -> #VALUE! | T36: =CODE(C36)-64 -> #VALUE!
H37: =IF(T37*B37<4, "No Action", IF(T37*B37<7, "Monitor", IF(T37*B37<15, "Action", IF(T37*B37<16, "Urgent Action", "Immediate Action")))) -> #VALUE! | T37: =CODE(C37)-64 -> #VALUE!
H38: =IF(T38*B38<4, "No Action", IF(T38*B38<7, "Monitor", IF(T38*B38<15, "Action", IF(T38*B38<16, "Urgent Action", "Immediate Action")))) -> #VALUE! | T38: =CODE(C38)-64 -> #VALUE!
... H250: =IF(T250*B250<4, "No Action", IF(T250*B250<7, "Monitor", IF(T250*B250<15, "Action", IF(T250*B250<16, "Urgent Action", "Immediate Action")))) -> #VALUE! | T250: =CODE(C250)-64 -> #VALUE!

Sheet Sheet3
